BEGIN:VCALENDAR
VERSION:2.0
PRODID:-//Raison d&#039;être - ECPv6.15.20//NONSGML v1.0//EN
CALSCALE:GREGORIAN
METHOD:PUBLISH
X-ORIGINAL-URL:https://raisondetre.se
X-WR-CALDESC:Events for Raison d&#039;être
REFRESH-INTERVAL;VALUE=DURATION:PT1H
X-Robots-Tag:noindex
X-PUBLISHED-TTL:PT1H
BEGIN:VTIMEZONE
TZID:Europe/Stockholm
BEGIN:DAYLIGHT
TZOFFSETFROM:+0100
TZOFFSETTO:+0200
TZNAME:CEST
DTSTART:20170326T010000
END:DAYLIGHT
BEGIN:STANDARD
TZOFFSETFROM:+0200
TZOFFSETTO:+0100
TZNAME:CET
DTSTART:20171029T010000
END:STANDARD
BEGIN:DAYLIGHT
TZOFFSETFROM:+0100
TZOFFSETTO:+0200
TZNAME:CEST
DTSTART:20180325T010000
END:DAYLIGHT
BEGIN:STANDARD
TZOFFSETFROM:+0200
TZOFFSETTO:+0100
TZNAME:CET
DTSTART:20181028T010000
END:STANDARD
BEGIN:DAYLIGHT
TZOFFSETFROM:+0100
TZOFFSETTO:+0200
TZNAME:CEST
DTSTART:20190331T010000
END:DAYLIGHT
BEGIN:STANDARD
TZOFFSETFROM:+0200
TZOFFSETTO:+0100
TZNAME:CET
DTSTART:20191027T010000
END:STANDARD
BEGIN:DAYLIGHT
TZOFFSETFROM:+0100
TZOFFSETTO:+0200
TZNAME:CEST
DTSTART:20200329T010000
END:DAYLIGHT
BEGIN:STANDARD
TZOFFSETFROM:+0200
TZOFFSETTO:+0100
TZNAME:CET
DTSTART:20201025T010000
END:STANDARD
BEGIN:DAYLIGHT
TZOFFSETFROM:+0100
TZOFFSETTO:+0200
TZNAME:CEST
DTSTART:20210328T010000
END:DAYLIGHT
BEGIN:STANDARD
TZOFFSETFROM:+0200
TZOFFSETTO:+0100
TZNAME:CET
DTSTART:20211031T010000
END:STANDARD
END:VTIMEZONE
BEGIN:VTIMEZONE
TZID:Europe/Paris
BEGIN:DAYLIGHT
TZOFFSETFROM:+0100
TZOFFSETTO:+0200
TZNAME:CEST
DTSTART:20170326T010000
END:DAYLIGHT
BEGIN:STANDARD
TZOFFSETFROM:+0200
TZOFFSETTO:+0100
TZNAME:CET
DTSTART:20171029T010000
END:STANDARD
BEGIN:DAYLIGHT
TZOFFSETFROM:+0100
TZOFFSETTO:+0200
TZNAME:CEST
DTSTART:20180325T010000
END:DAYLIGHT
BEGIN:STANDARD
TZOFFSETFROM:+0200
TZOFFSETTO:+0100
TZNAME:CET
DTSTART:20181028T010000
END:STANDARD
BEGIN:DAYLIGHT
TZOFFSETFROM:+0100
TZOFFSETTO:+0200
TZNAME:CEST
DTSTART:20190331T010000
END:DAYLIGHT
BEGIN:STANDARD
TZOFFSETFROM:+0200
TZOFFSETTO:+0100
TZNAME:CET
DTSTART:20191027T010000
END:STANDARD
END:VTIMEZONE
BEGIN:VEVENT
DTSTART;TZID=Europe/Stockholm:20201015T193000
DTEND;TZID=Europe/Stockholm:20201015T213000
DTSTAMP:20260419T182606
CREATED:20201004T122355Z
LAST-MODIFIED:20201004T122355Z
UID:752-1602790200-1602797400@raisondetre.se
SUMMARY:Karaokestream 2020-10-15
DESCRIPTION:Raison d’être anordnar digitala karaokerum på Discord! Kom och sjung med oss varje torsdag från ditt eget hem. \nKlicka här för mer information
URL:https://raisondetre.se/event/karaokestream-2020-10-15/
LOCATION:Discord
CATEGORIES:Karaokekväll
END:VEVENT
BEGIN:VEVENT
DTSTART;TZID=Europe/Stockholm:20201008T193000
DTEND;TZID=Europe/Stockholm:20201008T213000
DTSTAMP:20260419T182606
CREATED:20201004T121821Z
LAST-MODIFIED:20201004T122536Z
UID:747-1602185400-1602192600@raisondetre.se
SUMMARY:Karaokestream 2020-10-08
DESCRIPTION:Raison d’être anordnar digitala karaokerum på Discord! Kom och sjung med oss varje torsdag från ditt eget hem. \nKlicka här för mer information
URL:https://raisondetre.se/event/karaokestream-2020-10-08/
LOCATION:Discord
CATEGORIES:Karaokekväll
END:VEVENT
BEGIN:VEVENT
DTSTART;TZID=Europe/Stockholm:20201001T193000
DTEND;TZID=Europe/Stockholm:20201001T213000
DTSTAMP:20260419T182606
CREATED:20200906T134810Z
LAST-MODIFIED:20200906T134810Z
UID:732-1601580600-1601587800@raisondetre.se
SUMMARY:Karaokestream 2020-10-01
DESCRIPTION:Raison d’être anordnar digitala karaokerum på Discord! Kom och sjung med oss varje torsdag från ditt eget hem. \nKlicka här för mer information
URL:https://raisondetre.se/event/karaokestream-2020-10-01/
LOCATION:Discord
CATEGORIES:Karaokekväll
END:VEVENT
BEGIN:VEVENT
DTSTART;TZID=Europe/Stockholm:20200924T193000
DTEND;TZID=Europe/Stockholm:20200924T213000
DTSTAMP:20260419T182606
CREATED:20200906T134819Z
LAST-MODIFIED:20200906T135324Z
UID:733-1600975800-1600983000@raisondetre.se
SUMMARY:Karaokestream 2020-09-24
DESCRIPTION:Raison d’être anordnar digitala karaokerum på Discord! Kom och sjung med oss varje torsdag från ditt eget hem. \nKlicka här för mer information
URL:https://raisondetre.se/event/karaokestream-2020-09-24/
LOCATION:Discord
CATEGORIES:Karaokekväll
END:VEVENT
BEGIN:VEVENT
DTSTART;TZID=Europe/Stockholm:20200917T193000
DTEND;TZID=Europe/Stockholm:20200917T213000
DTSTAMP:20260419T182606
CREATED:20200906T134816Z
LAST-MODIFIED:20200906T135538Z
UID:731-1600371000-1600378200@raisondetre.se
SUMMARY:Karaokestream 2020-09-17
DESCRIPTION:Raison d’être anordnar digitala karaokerum på Discord! Kom och sjung med oss varje torsdag från ditt eget hem. \nKlicka här för mer information
URL:https://raisondetre.se/event/karaokestream-2020-09-17/
LOCATION:Discord
CATEGORIES:Karaokekväll
END:VEVENT
BEGIN:VEVENT
DTSTART;TZID=Europe/Stockholm:20200910T193000
DTEND;TZID=Europe/Stockholm:20200910T213000
DTSTAMP:20260419T182606
CREATED:20200905T193325Z
LAST-MODIFIED:20200906T135613Z
UID:708-1599766200-1599773400@raisondetre.se
SUMMARY:Karaokestream 2020-09-10
DESCRIPTION:Raison d’être anordnar digitala karaokerum på Discord! Kom och sjung med oss varje torsdag från ditt eget hem. \nKlicka här för mer information
URL:https://raisondetre.se/event/karaokestream-2020-09-10/
LOCATION:Discord
CATEGORIES:Karaokekväll
END:VEVENT
BEGIN:VEVENT
DTSTART;TZID=Europe/Stockholm:20200903T193000
DTEND;TZID=Europe/Stockholm:20200903T213000
DTSTAMP:20260419T182606
CREATED:20200813T144552Z
LAST-MODIFIED:20200906T135630Z
UID:698-1599161400-1599168600@raisondetre.se
SUMMARY:Karaokestream 2020-09-03
DESCRIPTION:Raison d’être anordnar digitala karaokerum på Discord! Kom och sjung med oss varje torsdag från ditt eget hem. \nKlicka här för mer information
URL:https://raisondetre.se/event/karaokestream-2020-09-03/
LOCATION:Discord
CATEGORIES:Karaokekväll
END:VEVENT
BEGIN:VEVENT
DTSTART;TZID=Europe/Stockholm:20200711T200000
DTEND;TZID=Europe/Stockholm:20200711T200000
DTSTAMP:20260419T182606
CREATED:20200630T153421Z
LAST-MODIFIED:20200906T135659Z
UID:671-1594497600-1594497600@raisondetre.se
SUMMARY:Karaokestream 2020-07-11
DESCRIPTION:Raison d’être anordnar digitalt karaokerum på Discord! Sjung hela natten lång från ditt eget hem. \nKlicka här för mer information
URL:https://raisondetre.se/event/karaokestream-2020-07-11/
LOCATION:Discord
CATEGORIES:Karaokekväll
END:VEVENT
BEGIN:VEVENT
DTSTART;TZID=Europe/Stockholm:20181211T170000
DTEND;TZID=Europe/Stockholm:20181211T210000
DTSTAMP:20260419T182606
CREATED:20181008T121444Z
LAST-MODIFIED:20181008T121444Z
UID:480-1544547600-1544562000@raisondetre.se
SUMMARY:Hikari-kai
DESCRIPTION:Varannan tisdag anordnar Raison d’être karaoke på Hikari-kai\, föreningen ConFusions tisdagsträffar i Göteborg. Kom och sjung med oss!
URL:https://raisondetre.se/event/hikari-kai20181211/
LOCATION:Stenhuset\, Djurgårdsgatan 29\, Göteborg\, 41462\, Sweden
CATEGORIES:Karaokekväll
END:VEVENT
BEGIN:VEVENT
DTSTART;TZID=Europe/Stockholm:20181127T170000
DTEND;TZID=Europe/Stockholm:20181127T210000
DTSTAMP:20260419T182606
CREATED:20181008T121340Z
LAST-MODIFIED:20181008T121353Z
UID:478-1543338000-1543352400@raisondetre.se
SUMMARY:Hikari-kai
DESCRIPTION:Varannan tisdag anordnar Raison d’être karaoke på Hikari-kai\, föreningen ConFusions tisdagsträffar i Göteborg. Kom och sjung med oss!
URL:https://raisondetre.se/event/hikari-20181127/
LOCATION:Stenhuset\, Djurgårdsgatan 29\, Göteborg\, 41462\, Sweden
CATEGORIES:Karaokekväll
END:VEVENT
BEGIN:VEVENT
DTSTART;TZID=Europe/Stockholm:20181113T170000
DTEND;TZID=Europe/Stockholm:20181113T210000
DTSTAMP:20260419T182606
CREATED:20181008T121255Z
LAST-MODIFIED:20181008T121504Z
UID:476-1542128400-1542142800@raisondetre.se
SUMMARY:Hikari-kai
DESCRIPTION:Varannan tisdag anordnar Raison d’être karaoke på Hikari-kai\, föreningen ConFusions tisdagsträffar i Göteborg. Kom och sjung med oss!
URL:https://raisondetre.se/event/hikari-kai20181113/
LOCATION:Stenhuset\, Djurgårdsgatan 29\, Göteborg\, 41462\, Sweden
CATEGORIES:Karaokekväll
END:VEVENT
BEGIN:VEVENT
DTSTART;TZID=Europe/Stockholm:20181101T180000
DTEND;TZID=Europe/Stockholm:20181101T230000
DTSTAMP:20260419T182606
CREATED:20181008T204113Z
LAST-MODIFIED:20181029T194916Z
UID:496-1541095200-1541113200@raisondetre.se
SUMMARY:Karaoke på GG Bar
DESCRIPTION:Raison d’être tar karaoken till GG Bar i Göteborg! Kom och sjung med oss\, ta en drink i baren\, ät en bit mat!
URL:https://raisondetre.se/event/karaoke-pa-gg-bar/
LOCATION:GG Bar\, Kapellgatan 12\, Göteborg\, 41133\, Sweden
CATEGORIES:Karaokekväll
END:VEVENT
BEGIN:VEVENT
DTSTART;TZID=Europe/Stockholm:20181030T170000
DTEND;TZID=Europe/Stockholm:20181030T210000
DTSTAMP:20260419T182606
CREATED:20181008T115346Z
LAST-MODIFIED:20181008T115346Z
UID:463-1540918800-1540933200@raisondetre.se
SUMMARY:Hikari-kai
DESCRIPTION:Varannan tisdag anordnar Raison d’être karaoke på Hikari-kai\, föreningen ConFusions tisdagsträffar i Göteborg. Kom och sjung med oss!
URL:https://raisondetre.se/event/hikari-kai20181030/
LOCATION:Stenhuset\, Djurgårdsgatan 29\, Göteborg\, 41462\, Sweden
CATEGORIES:Karaokekväll
END:VEVENT
BEGIN:VEVENT
DTSTART;TZID=Europe/Stockholm:20181027T170000
DTEND;TZID=Europe/Stockholm:20181027T230000
DTSTAMP:20260419T182606
CREATED:20181008T120554Z
LAST-MODIFIED:20181008T120554Z
UID:469-1540659600-1540681200@raisondetre.se
SUMMARY:Karaokekväll
DESCRIPTION:Nu är det dags igen för en mysig karaokekväll med Raison d’être! I en trevlig liten lokal sjunger vi karaoke kvällen lång. Raison d’être bjuder på snacks och dricka\, och det kommer även att beställas pizza till självkostnadspris. \nFritt inträde för medlemmar i föreningen\, 50 kronor för icke-medlemmar. Medlemskap kan tecknas på plats för 50 kronor.
URL:https://raisondetre.se/event/karaokekvall20181027/
LOCATION:Ekbacka Lounge\, Blendas Gata 59\, Hisings Backa\, 42251\, Sweden
CATEGORIES:Karaokekväll
END:VEVENT
BEGIN:VEVENT
DTSTART;TZID=Europe/Stockholm:20181016T170000
DTEND;TZID=Europe/Stockholm:20181016T210000
DTSTAMP:20260419T182606
CREATED:20181008T115005Z
LAST-MODIFIED:20181010T091443Z
UID:461-1539709200-1539723600@raisondetre.se
SUMMARY:Hikari-kai
DESCRIPTION:Varannan tisdag anordnar Raison d’être karaoke på Hikari-kai\, föreningen ConFusions tisdagsträffar i Göteborg. Kom och sjung med oss! \nDenna dag kommer det filmas på Hikari-kai\, då Raison d’être ska spela in material till en promofilm\, så var beredd på det och säg till om du inte vill bli filmad.
URL:https://raisondetre.se/event/hikari-kai20181016/
LOCATION:Stenhuset\, Djurgårdsgatan 29\, Göteborg\, 41462\, Sweden
CATEGORIES:Karaokekväll
END:VEVENT
BEGIN:VEVENT
DTSTART;TZID=Europe/Paris:20180501T170000
DTEND;TZID=Europe/Paris:20180501T210000
DTSTAMP:20260419T182606
CREATED:20180329T173344Z
LAST-MODIFIED:20180329T173344Z
UID:385-1525194000-1525208400@raisondetre.se
SUMMARY:Hikari-kai
DESCRIPTION:Varannan tisdag anordnar Raison d’être karaoke på Hikari-kai\, föreningen ConFusions tisdagsträffar i Göteborg. Kom och sjung med oss!
URL:https://raisondetre.se/event/hikarikai20180501/
LOCATION:Stenhuset\, Djurgårdsgatan 29\, Göteborg\, 41462\, Sweden
CATEGORIES:Karaokekväll
END:VEVENT
BEGIN:VEVENT
DTSTART;TZID=Europe/Paris:20180417T170000
DTEND;TZID=Europe/Paris:20180417T210000
DTSTAMP:20260419T182606
CREATED:20180329T173221Z
LAST-MODIFIED:20180329T173403Z
UID:383-1523984400-1523998800@raisondetre.se
SUMMARY:Hikari-kai
DESCRIPTION:Varannan tisdag anordnar Raison d’être karaoke på Hikari-kai\, föreningen ConFusions tisdagsträffar i Göteborg. Kom och sjung med oss!
URL:https://raisondetre.se/event/hikarikai20180417/
LOCATION:Stenhuset\, Djurgårdsgatan 29\, Göteborg\, 41462\, Sweden
CATEGORIES:Karaokekväll
END:VEVENT
BEGIN:VEVENT
DTSTART;TZID=Europe/Paris:20180403T170000
DTEND;TZID=Europe/Paris:20180403T210000
DTSTAMP:20260419T182606
CREATED:20180329T141345Z
LAST-MODIFIED:20180329T173029Z
UID:380-1522774800-1522789200@raisondetre.se
SUMMARY:Hikari-kai
DESCRIPTION:Varannan tisdag anordnar Raison d’être karaoke på Hikari-kai\, föreningen ConFusions tisdagsträffar i Göteborg. Kom och sjung med oss!
URL:https://raisondetre.se/event/hikarikai20180403/
LOCATION:Stenhuset\, Djurgårdsgatan 29\, Göteborg\, 41462\, Sweden
CATEGORIES:Karaokekväll
END:VEVENT
END:VCALENDAR